Workbook

Sheet  1
A1: Etablissement | C1: Résidence administrative | E1: Indemnités kilométriques
A3: Université Paris 13 | C3: Campus de Villetaneuse - 99 avenue Jean Baptiste Clément 93430 Villetaneuse | E3: < ou = à 5 chevaux | F3: 0.35
A4: Autre | C4: Campus de Bobigny - 74 rue Marcel Cachin 93000 Bobigny | E4: 6 et 7 chevaux | F4: 0.37
C5: IUT de Bobigny - 1 rue de Chablis 93017 Bobigny cedex | E5: > = à 8 chevaux | F5: 0.41
A6: Réponse fermée | C6: IUT Saint Denis - Place du 8 mai 1945 93200 Saint Denis
C7: MSH - 4 rue de la Croix Faron 93210 La Plaine Saint Denis
A8: OUI
A9: NON | C9: Moyens de transport | F9: Frais de séjour en France Métropole
C11: Train 2nd classe | F11: avec dérogation pour l'Ile de France | G11: 150
A12: Frais d'inscription | C12: Train 1ère classe* | F12: avec dérogation en Province | G12: 100
A13: Photocopies | C13: Avion classe économique | F13: sans dérogation pour les départements 75/93/95 | G13: 90
A14: Frais de demande de Visa | C14: Avion surclassement* | F14: sans dérogation en Province | G14: 60
A15: Frais de demande de Passeport | C15: Transport en commun
A16: Frais d'exédent de bagages | C16: Véhicule de location (4)
A17: Frais d'enregistrement | C17: Taxi
A18: Frais de vaccins | C18: Remboursement de frais de voyage au tarif SNCF 2nd classe en remplacement du calcul indemnitaire kilométrique du véhicule personnel
A19: Autres frais** | C19: Autres*
F20: Frais de séjour à l'étranger
A22: Etat de frais | F22: Aux frais réels
A23: ETAT PREVISIONNEL | F23: Hotel au perdiem | G23: 0
A24: ETAT DEFINITIF | G24: 0.65
F27: Reaps au perdiem
G28: 0.175
F31: Repas
F33: Forfaitaire | G33: 17.5
F34: Repas administratif ou assimilé | G34: 7.625

Sheet Etat des frais
C1: ETAT PREVISIONNEL | E1: DES FRAIS OCCASIONNES
B2: PAR LES DEPLACEMENTS TEMPORAIRES DES PERSONNELS
D3: ALLER | F3: RETOUR
A4: Nom du missionnaire | D4: Date de départ | F4: Date de départ
A5: Prénom du missionnaire | D5: Heure de départ | F5: Heure de départ
A6: Etablissement | D6: Date d'arrivée | F6: Date d'arrivée
A7: Résidence familiale | D7: Heure d'arrivée | F7: Heure d'arrivée
A8: Résidence administrative | D8: Lieu de mission
A9: Email
A10: Téléphone | D10: Pays de mission
A12: REMBOURSEMENTS
A14: Type(s) de prestation(s) de l'agence de voyage | D14: N° de(s) facture(s) :
A16: FRAIS AVANCES PAR LE MISSIONNAIRE
A17: A - FRAIS DE TRANSPORT (1)
A18: Avion classe économique
G19: 0
G20: 0
G21: 0
A22: *Autres : veuillez détailler dans le champs ci-contre les différents moyens de transport utilisés et/ou autres frais en lien avec les frais de transport et qui ne sont pas mentionnés dans la liste déroulante (ex : frais de parking, etc.),
B26: Puissance fiscale | C26: Coef. Indem. Kms | D26: Nombre de Kms parcourus
A27: Véhicule personnel (2) | B27: > = à 8 chevaux | C27: =IFERROR(VLOOKUP(B27,' 1'!E3:F5,2,FALSE),0) -> 0.41 | D27: 0 | G27: =C27*D27 -> 0 | H27: =VLOOKUP(B27,' 1'!$E$2:$F$5,2,FALSE) -> 0.41 | J27: =IF($A18="Remboursement de frais de voyage au tarif SNCF 2nd classe en remplacement du calcul indemnitaire kilométrique du véhicule personnel",0,$C$27*$D$27) -> 0 | K27: =IF($A19="Remboursement de frais de voyage au tarif SNCF 2nd classe en remplacement du calcul indemnitaire kilométrique du véhicule personnel",0,$C$27*$D$27) -> 0 | L27: =IF($A20="Remboursement de frais de voyage au tarif SNCF 2nd classe en remplacement du calcul indemnitaire kilométrique du véhicule personnel",0,$C$27*$D$27) -> 0 | M27: =IF($A21="Remboursement de frais de voyage au tarif SNCF 2nd classe en remplacement du calcul indemnitaire kilométrique du véhicule personnel",0,$C$27*$D$27) -> 0
A28: Sous total de remboursements des frais de transport | G28: =G18+G19+G20+G21+G27 -> 0
A30: B - FRAIS DE SEJOUR
A31: 1) Frais de séjour en France Métropole
B32: Type de remboursement (3) | C32: Montant plafonné de la nuitée ou du repas | D32: Nombre de quotité | E32: Montant total plafonné | F32: Montant total de la facture
A33: Hotel | B33: sans dérogation en Province | C33: =IFERROR(VLOOKUP(B33,' 1'!F11:G14,2,FALSE),0) -> 60 | E33: =C33*D33 -> 0 | G33: =IF(F33=0,E33,I33) -> 0 | H33: =VLOOKUP(B33,' 1'!$F$10:$G$14,2,FALSE) -> 60 | I33: =IF(E33>=F33,F33,E33) -> 0
A34: Repas | B34: Forfaitaire | C34: =IFERROR(VLOOKUP(B34,' 1'!F33:G34,2,FALSE),0) -> 17.5 | G34: =C34*D34 -> 0 | H34: =VLOOKUP($B$34,' 1'!$F$32:$G$34,2,FALSE) -> 17.5
A35: Repas | C35: =IFERROR(VLOOKUP(B35,' 1'!F34:G35,2,FALSE),0) -> 0 | G35: =C35*D35 -> 0 | H35: =VLOOKUP($B$35,' 1'!$F$32:$G$34,2,FALSE) -> #N/A
A36: Sous total de remboursements des frais de séjour en France Métropole | G36: =G33+G34+G35 -> 0
A38: 2) Frais de séjour l'étranger
A39: Bareme de frais de mission en cours (consulter le site du Minéfi ci-dessous) http://www.minefe.gouv.fr/a_votre_service/informations_pratiques/chancellerie/mission.php | D39: Taux de chancellerie (du Minéfi)(5)
A40: Pays | D40: Le perdiem | F40: =C39*G39 -> 0
C42: Montant plafonné de la nuitée ou du repas | D42: Nombre de quotité | E42: Montant total plafonné | F42: Montant total de la facture
B43: Taux de remboursement
A44: Hotel | B44: 0.65 | C44: =IF(B44="Aux frais réels",0,B44*F40) -> 0 | E44: =IF(B44="Aux frais réels",0,C44*D44) -> 0 | G44: =E44 -> 0 | H44: =IF(B44="Aux frais réels",F44,I44) -> 0 | I44: =IF(E44>=F44,F44,E44) -> 0 | J44: =IF(E44=0,F40*D44,E44) -> 0 | K44: =IF(F44>(F40*D44),F40*D44,J44) -> 0 | L44: =IF(J44<K44,J44,K44) -> 0 | M44: =IF($F$44>$K$44,$L$44,$F$44) -> 0
A45: Repas | B45: 0.175 | C45: =B45*F40 -> 0 | D45: 0 | G45: =C45*D45 -> 0
A46: Sous total de remboursements des frais de séjour à l'étranger | G46: =G44+G45 -> 0
A48: 3) Frais de séjour - Etape(s) intermédiaire(s) à l'étranger
A49: Bareme de frais de mission en cours (consulter le site du Minéfi ci-dessous) http://www.minefe.gouv.fr/a_votre_service/informations_pratiques/chancellerie/mission.php | D49: Taux de chancellerie (du Minéfi)(5)
A50: Pays | D50: Le perdiem | F50: =C49*G49 -> 0
C52: Montant plafonné de la nuitée ou du repas | D52: Nombre de quotité | E52: Montant total plafonné | F52: Montant total de la facture
B53: Taux de remboursement
A54: Hotel | C54: =IF(B54="Aux frais réels",0,B54*F50) -> 0 | E54: =IF(B54="Aux frais réels",0,C54*D54) -> 0 | F54: 0 | G54: =E54 -> 0 | H54: =IF(B54="Aux frais réels",F54,I54) -> 0 | I54: =IF(E54>=F54,F54,E54) -> 0 | J54: =IF(E54=0,F50*D54,E54) -> 0 | K54: =IF(F54>(F50*D54),F50*D54,J54) -> 0 | L54: =IF(J54<K54,J54,K54) -> 0 | M54: =IF($F$44>$K$44,$L$44,$F$44) -> 0
A55: Repas | B55: 0.175 | C55: =B55*F50 -> 0 | G55: =C55*D55 -> 0
A56: Sous total de remboursements des frais de séjour à l'étranger | G56: =G54+G55 -> 0
A58: 4) Autres frais
G59: 0
G60: 0
G61: 0
A62: **Autres frais (veuillez détailler dans le champs ci-contre les différents frais engendrés par votre mission et qui ne sont pas mentionnés dans la liste déroulante)
A64: Sous total des remboursement des autres frais | G64: =G61+G60+G59 -> 0
A66: TOTAL DES FRAIS ENGAGES PAR L'INTERESSE | G66: =G28+G36+G46+G56+G64 -> 0
A68: Montant de l'avance | G68: 0
A69: Montant forfaitaire des frais occasionnés par le déplacement | G69: 0
A71: MONTANT A REMBOURSER A L'INTERESSE | G71: =IF($K$71>$G$68,$K$71-$G$68,$G$69-$G$68) -> 0 | H71: =IF(G66>G69,G69,G66) -> 0 | I71: =IF($K$71>$G$68,$K$71-$G$68,$G$69-$G$68) -> 0 | J71: =IF(G69>0,G69,G66) -> 0 | K71: =IF(G66>J71,J71,G66) -> 0
B73: J'atteste sur l'honneur que ces frais ne font pas l'objet d'un remboursement par un organisme tiers.
A75: Visa et cachet du responsable budgétaire | C75: Certifié exact, le
C76: Le missionnaire
A77: * Se référer aux annotations de l'ordre de mission
A78: (1) Joindre obligatoirement toutes les pièces justificatives originales (titres de transport, factures d'hotel, ect.)
A79: (2) Veuillez remplir la demande d’autorisation d’utiliser le véhicule personnel avant le départ en mission et joindre les documents demandés
A80: (3) Se référer à la délibération du Conseil d'Administration de l'Université Paris 13 du 02 juillet 2010 fixant les montants et modalités de dérogation du décret du 03 juillet 2006 (4) Si l’agent utilise, exceptionnellement, son véhicule personnel, joindre la «demande d’autorisation d’utilisation du véhicule personnel» signée par le responsable par délégation.
A81: (4) Joindre le contrat et la facture de location ainsi qu'une photocopie du permis de conduire en cours de validité
A82: (5) ATTENTION : Pour les pays qui utilisent comme "code monnaie = EUR" tel qu'indiqué sur le site du Minéfi, veuillez saisir "1" comme taux de chancellerie.
